BEGIN:VCALENDAR
VERSION:2.0
PRODID:-//ChamberMaster//Event Calendar 2.0//EN
METHOD:PUBLISH
X-PUBLISHED-TTL:P3D
REFRESH-INTERVAL:P3D
CALSCALE:GREGORIAN
BEGIN:VEVENT
DTSTART:20180928T150000Z
DTEND:20180928T210000Z
X-MICROSOFT-CDO-ALLDAYEVENT:FALSE
SUMMARY:BLOOD DRIVE - HELP
DESCRIPTION:We need you help! Over 6\,000 units of blood lost from the Hurricane\, this affects local blood supply along with our friends/family on the east coast. Please help and due your part - donate blood at the Lyon County Government Center on Friday
X-ALT-DESC;FMTTYPE=text/html:We need you help! Over 6\,000 units of blood lost from the Hurricane\, this affects local blood supply along with our friends/family on the east coast. Please help and due your part - donate blood at the Lyon County Government Center on Friday
LOCATION:Lyon County Government Center
UID:e.499.7879
SEQUENCE:3
DTSTAMP:20260420T013135Z
URL:http://marshallareadev.chambermaster.com/events/details/blood-drive-help-7879
END:VEVENT

END:VCALENDAR
